BEGIN:VCALENDAR
VERSION:2.0
X-WR-CALNAME: Sam Kelly’s Station House
PRODID:GIGPRESS 2.0 WORDPRESS PLUGIN
CALSCALE:GREGORIAN
X-WR-TIMEZONE:Etc/GMT
METHOD:PUBLISH
BEGIN:VTIMEZONE
TZID:GMT
BEGIN:STANDARD
DTSTART:20071028T010000
TZOFFSETTO:+0000
TZOFFSETFROM:+0000
END:STANDARD
END:VTIMEZONE
BEGIN:VEVENT
SUMMARY:Sam Kelly’s Station House at Egham United Services Club
DESCRIPTION:Price: £5. All Ages/Licensed
LOCATION:Egham United Services Club\, 111 Spring Rise\, Egham\, UK
UID:20260516T190000Z-1015-ditupps@ntlworld.com
URL:https://www.ffarcottonpromotions.co.uk
DTSTART;VALUE=DATE-TIME;TZID=GMT:20260516T190000Z
DTEND;VALUE=DATE-TIME;TZID=GMT:20260516T190000Z
DTSTAMP:20260423T050944Z
END:VEVENT
BEGIN:VEVENT
SUMMARY:Sam Kelly’s Station House at The Music Den
DESCRIPTION:Price: £15. All Ages/Licensed
LOCATION:The Music Den\, Hemnall Social Club\, 50 Hemnall Street\, Epping\, UK
UID:20260526T190000Z-1016-ditupps@ntlworld.com
URL:https://www.ffarcottonpromotions.co.uk
DTSTART;VALUE=DATE-TIME;TZID=GMT:20260526T190000Z
DTEND;VALUE=DATE-TIME;TZID=GMT:20260526T190000Z
DTSTAMP:20260423T050944Z
END:VEVENT
BEGIN:VEVENT
SUMMARY:Sam Kelly’s Station House at Blues Bar
DESCRIPTION:Price: TBC. All Ages/Licensed
LOCATION:Blues Bar\, Tring Park Cricket Club Beechwood\, London Rd\, Tring\, UK
UID:20260604T190000Z-1017-ditupps@ntlworld.com
URL:https://www.ffarcottonpromotions.co.uk
DTSTART;VALUE=DATE-TIME;TZID=GMT:20260604T190000Z
DTEND;VALUE=DATE-TIME;TZID=GMT:20260604T190000Z
DTSTAMP:20260423T050944Z
END:VEVENT
END:VCALENDAR