BEGIN:VCALENDAR
VERSION:2.0
X-WR-CALNAME: Rainey's Revue
PRODID:GIGPRESS 2.0 WORDPRESS PLUGIN
CALSCALE:GREGORIAN
X-WR-TIMEZONE:Etc/GMT
METHOD:PUBLISH
BEGIN:VTIMEZONE
TZID:GMT
BEGIN:STANDARD
DTSTART:20071028T010000
TZOFFSETTO:+0000
TZOFFSETFROM:+0000
END:STANDARD
END:VTIMEZONE
BEGIN:VEVENT
SUMMARY:Rainey's Revue at LogIn Lounge
DESCRIPTION:Price: £5. All Ages/Licensed
LOCATION:LogIn Lounge\, 34 Park Street\, Camberley\, UK
UID:20260503T120000Z-1003-ditupps@ntlworld.com
URL:https://www.ffarcottonpromotions.co.uk
DTSTART;VALUE=DATE-TIME;TZID=GMT:20260503T120000Z
DTEND;VALUE=DATE-TIME;TZID=GMT:20260503T120000Z
DTSTAMP:20260423T050904Z
END:VEVENT
BEGIN:VEVENT
SUMMARY:Rainey's Revue at Livermead Cliff Hotel
DESCRIPTION:Price: £22. Notes: Fougou Jazz presents: All Ages/Licensed
LOCATION:Livermead Cliff Hotel\, Torbay Road\, Torquay\, UK
UID:20260513T190000Z-1004-ditupps@ntlworld.com
URL:https://www.ffarcottonpromotions.co.uk
DTSTART;VALUE=DATE-TIME;TZID=GMT:20260513T190000Z
DTEND;VALUE=DATE-TIME;TZID=GMT:20260513T190000Z
DTSTAMP:20260423T050904Z
END:VEVENT
BEGIN:VEVENT
SUMMARY:Rainey's Revue at The Acorn
DESCRIPTION:Price: £20. All Ages/Licensed
LOCATION:The Acorn\, Parade Street\, Penzance\, UK
UID:20260516T190000Z-1005-ditupps@ntlworld.com
URL:https://www.ffarcottonpromotions.co.uk
DTSTART;VALUE=DATE-TIME;TZID=GMT:20260516T190000Z
DTEND;VALUE=DATE-TIME;TZID=GMT:20260516T190000Z
DTSTAMP:20260423T050904Z
END:VEVENT
BEGIN:VEVENT
SUMMARY:Rainey's Revue at Redgrave Theatre
DESCRIPTION:Price: £19.30. All Ages/Licensed
LOCATION:Redgrave Theatre\, Clifton College\, Percival Road\, Bristol\, UK
UID:20260702T190000Z-1006-ditupps@ntlworld.com
URL:https://www.ffarcottonpromotions.co.uk
DTSTART;VALUE=DATE-TIME;TZID=GMT:20260702T190000Z
DTEND;VALUE=DATE-TIME;TZID=GMT:20260702T190000Z
DTSTAMP:20260423T050904Z
END:VEVENT
BEGIN:VEVENT
SUMMARY:Rainey's Revue at Thorington Theatre
DESCRIPTION:Price: £32. All Ages/Licensed
LOCATION:Thorington Theatre\, Thorington\, UK
UID:20260821T183000Z-1007-ditupps@ntlworld.com
URL:https://www.ffarcottonpromotions.co.uk
DTSTART;VALUE=DATE-TIME;TZID=GMT:20260821T183000Z
DTEND;VALUE=DATE-TIME;TZID=GMT:20260821T183000Z
DTSTAMP:20260423T050904Z
END:VEVENT
END:VCALENDAR